BEGIN:VCALENDAR
VERSION:2.0
PRODID:-//Artscape Theatre Centre - Cape Town - ECPv6.9.0//NONSGML v1.0//EN
CALSCALE:GREGORIAN
METHOD:PUBLISH
X-WR-CALNAME:Artscape Theatre Centre - Cape Town
X-ORIGINAL-URL:https://www.artscape.co.za
X-WR-CALDESC:Events for Artscape Theatre Centre - Cape Town
REFRESH-INTERVAL;VALUE=DURATION:PT1H
X-Robots-Tag:noindex
X-PUBLISHED-TTL:PT1H
BEGIN:VTIMEZONE
TZID:Europe/Helsinki
BEGIN:DAYLIGHT
TZOFFSETFROM:+0200
TZOFFSETTO:+0300
TZNAME:EEST
DTSTART:20240331T010000
END:DAYLIGHT
BEGIN:STANDARD
TZOFFSETFROM:+0300
TZOFFSETTO:+0200
TZNAME:EET
DTSTART:20241027T010000
END:STANDARD
END:VTIMEZONE
BEGIN:VEVENT
DTSTART;TZID=Europe/Helsinki:20241026T080000
DTEND;TZID=Europe/Helsinki:20241026T170000
DTSTAMP:20260420T112020
CREATED:20240923T123141Z
LAST-MODIFIED:20241010T080132Z
UID:14828-1729929600-1729962000@www.artscape.co.za
SUMMARY:New Voices Programme - ROUGE
DESCRIPTION:Rouge is the second one-man act out of Annie Akinyi Kamya’s thoughts and mind and reflecting her insights. Rouge touches on xenophobia\, displacement\, abortion\, pro-equality and dating. These themes are from the perspective of a black female peri-peri-menopausal\, celibate supernova. Come and share in this special show where thoughts are readily shared\, words are definitely not minced and no stone is left unturned. \nDuration: 50min Interval \nKindly note Artscape provides wheelchair seating. You can book directly via this website but should you require assistance please call Artscape Dial-a-Seat on 021 421 76 95 who will assist with navigation and booking. \nImportant Notice: PAID PARKING FOR ARTSCAPE THEATRE \nSecure parking is available for Artscape patrons at the Cape Town Civic Centre basement parking area. Access is via the Jan Smuts Street entrance at the times indicated below: \nOperating hours \n• Mondays to Fridays between 5 pm and 11 pm\n• Saturdays\, Sundays and public holidays during showtimes \nParking tariffs\nFee: R40.00 / Pensioners: R30.00\nFor more info\, please contact dial-a-seat: 021 421 76 95 \n 
URL:https://www.artscape.co.za/event/new-voices-pogramme-2024-rouge/
CATEGORIES:Reading
END:VEVENT
END:VCALENDAR