BEGIN:VCALENDAR
VERSION:2.0
PRODID:-//Artscape Theatre Centre - Cape Town - ECPv6.9.0//NONSGML v1.0//EN
CALSCALE:GREGORIAN
METHOD:PUBLISH
X-WR-CALNAME:Artscape Theatre Centre - Cape Town
X-ORIGINAL-URL:https://www.artscape.co.za
X-WR-CALDESC:Events for Artscape Theatre Centre - Cape Town
REFRESH-INTERVAL;VALUE=DURATION:PT1H
X-Robots-Tag:noindex
X-PUBLISHED-TTL:PT1H
BEGIN:VTIMEZONE
TZID:Europe/Helsinki
BEGIN:DAYLIGHT
TZOFFSETFROM:+0200
TZOFFSETTO:+0300
TZNAME:EEST
DTSTART:20260329T010000
END:DAYLIGHT
BEGIN:STANDARD
TZOFFSETFROM:+0300
TZOFFSETTO:+0200
TZNAME:EET
DTSTART:20261025T010000
END:STANDARD
END:VTIMEZONE
BEGIN:VEVENT
DTSTART;TZID=Europe/Helsinki:20260409T080000
DTEND;TZID=Europe/Helsinki:20260424T170000
DTSTAMP:20260423T090323
CREATED:20251219T082814Z
LAST-MODIFIED:20260119T102510Z
UID:16461-1775721600-1777050000@www.artscape.co.za
SUMMARY:Krismis van Map Jacobs
DESCRIPTION:‘n Gevreesde bendeleier word na sewe jaar op parool uit die tronk vrygelaat. Almal wonder nou of Map verander het en of hy steeds die ou Map is. Die drama speel af na die gedwonge verskuiwings uit die Kaap na die Vlakte. Dit kyk na die invloed wat sosiale en maatskaplike euwels op die gemeenskap het en gee ‘n blik op die leefwyse van die ontworteldes\, hulle lief en leed en die desperate hunkering na ‘n beter bestaan. Krismis van Map Jacobs tas aan sosiale kwessies soos werkloosheid en armoede wat hedendaags nog steeds van belang is asook die soeke na identiteit en vergifnis. Krismis van Map Jacobs fokus ook op die letsels wat Apartheid op die Kaapse Bruin gemeenskap gelaat het School’s name to be provided when making a booking. \n \nKindly note Artscape provides wheelchair seating. You can book directly via this website but should you require assistance please call Artscape Dial-a-Seat on 021 421 76 95 who will assist with navigation and booking. \n  \nImportant Notice: PAID PARKING FOR ARTSCAPE THEATRE \nSecure parking is available for Artscape patrons at the Cape Town Civic Centre basement parking area. Access is via the Jan Smuts Street entrance at the times indicated below: \nOperating hours \n• Mondays to Fridays between 5 pm and 11 pm\n• Saturdays\, Sundays and public holidays during showtimes \nParking tariffs\nFee: R45.00\nFor more info\, please contact dial-a-seat: 021 421 76 95
URL:https://www.artscape.co.za/event/krismis-van-map-jacobs-6/
CATEGORIES:Afrikaans,Drama,Education
END:VEVENT
BEGIN:VEVENT
DTSTART;TZID=Europe/Helsinki:20260722T080000
DTEND;TZID=Europe/Helsinki:20260804T170000
DTSTAMP:20260423T090323
CREATED:20251219T081951Z
LAST-MODIFIED:20251219T090344Z
UID:16459-1784707200-1785862800@www.artscape.co.za
SUMMARY:My Children! My Africa
DESCRIPTION:In a township classroom in the Eastern Cape in 1984\, an idealistic teacher attempts to instill a love of learning in his gifted pupil\, but political unrest and the generational divide soon culminate in an explosive conflict with tragic consequences. Athol Fugard’s seminal 1989 play\, My Children! My Africa! presents a candid and moving portrait of a country on the verge of revolution. This modern classic is Fugard’s hymn to the power of youth\, education\, hope and ideas. \nKindly note Artscape provides wheelchair seating. You can book directly via this website but should you require assistance please call Artscape Dial-a-Seat on 021 421 76 95 who will assist with navigation and booking. \nImportant Notice: PAID PARKING FOR ARTSCAPE THEATRE \nSecure parking is available for Artscape patrons at the Cape Town Civic Centre basement parking area. Access is via the Jan Smuts Street entrance at the times indicated below: \nOperating hours \n• Mondays to Fridays between 5 pm and 11 pm\n• Saturdays\, Sundays and public holidays during showtimes \nParking tariffs\nFee: R45.00\nFor more info\, please contact dial-a-seat: 021 421 76 95
URL:https://www.artscape.co.za/event/my-children-my-africa-2/
CATEGORIES:Education
END:VEVENT
BEGIN:VEVENT
DTSTART;TZID=Europe/Helsinki:20260812T080000
DTEND;TZID=Europe/Helsinki:20260815T170000
DTSTAMP:20260423T090323
CREATED:20251219T090045Z
LAST-MODIFIED:20251219T090045Z
UID:16468-1786521600-1786813200@www.artscape.co.za
SUMMARY:Hamlet
DESCRIPTION:After two critically acclaimed international seasons\, including performances at Europe’s largest and most prestigious Shakespeare Festival\, Abrahamse & Meyer return to Artscape to present their thrilling take on Shakespeare’s greatest play\, Hamlet. The award-winning duo bring their trademark innovation and finesse to this most haunting of plays. With spectacular designs\, this breath-taking production promises to be a must see for learners\, educators\, and lovers of Shakespeare alike. \nDuration: 120min; 15min interval included\nAge Restriction: N/A \nKindly note Artscape provides wheelchair seating. You can book directly via this website but should you require assistance please call Artscape Dial-a-Seat on 021 421 76 95 who will assist with navigation and booking. \nImportant Notice: PAID PARKING FOR ARTSCAPE THEATRE \nSecure parking is available for Artscape patrons at the Cape Town Civic Centre basement parking area. Access is via the Jan Smuts Street entrance at the times indicated below: \nOperating hours \n• Mondays to Fridays between 5 pm and 11 pm\n• Saturdays\, Sundays and public holidays during showtimes \nParking tariffs\nFee: R45.00\nFor more info\, please contact dial-a-seat: 021 421 76 95
URL:https://www.artscape.co.za/event/hamlet-2/
CATEGORIES:Drama,Education
END:VEVENT
END:VCALENDAR