BEGIN:VCALENDAR
VERSION:2.0
PRODID:-//Artscape Theatre Centre - Cape Town - ECPv6.9.0//NONSGML v1.0//EN
CALSCALE:GREGORIAN
METHOD:PUBLISH
X-ORIGINAL-URL:https://www.artscape.co.za
X-WR-CALDESC:Events for Artscape Theatre Centre - Cape Town
REFRESH-INTERVAL;VALUE=DURATION:PT1H
X-Robots-Tag:noindex
X-PUBLISHED-TTL:PT1H
BEGIN:VTIMEZONE
TZID:Europe/Helsinki
BEGIN:DAYLIGHT
TZOFFSETFROM:+0200
TZOFFSETTO:+0300
TZNAME:EEST
DTSTART:20240331T010000
END:DAYLIGHT
BEGIN:STANDARD
TZOFFSETFROM:+0300
TZOFFSETTO:+0200
TZNAME:EET
DTSTART:20241027T010000
END:STANDARD
BEGIN:DAYLIGHT
TZOFFSETFROM:+0200
TZOFFSETTO:+0300
TZNAME:EEST
DTSTART:20250330T010000
END:DAYLIGHT
BEGIN:STANDARD
TZOFFSETFROM:+0300
TZOFFSETTO:+0200
TZNAME:EET
DTSTART:20251026T010000
END:STANDARD
END:VTIMEZONE
BEGIN:VEVENT
DTSTART;TZID=Europe/Helsinki:20250528T080000
DTEND;TZID=Europe/Helsinki:20250606T170000
DTSTAMP:20260423T105038
CREATED:20250312T165022Z
LAST-MODIFIED:20250312T165022Z
UID:15528-1748419200-1749229200@www.artscape.co.za
SUMMARY:Buzani Ku Bawo
DESCRIPTION:Apha u Mnu Thamsanqa ubonakalisa amandla alento kuthiwa luthando. Ukuba apho luthe lwamiliselwa khona akekho onokuluncothula. Sesinye sezipho esanikwa umntu. Ukuba uzama ukohlula abo bathandanayo uzifaka engozini. Ufaka nabanye abantu kulengozi kuba ulwa nesipho esivela kuThixo. Kananjalo abanye bathi basebenzise isiko ukubonakalisa umahluko wezimvo kubantu abadala nesizukulwana esitsha. Kanti ke lento ilisiko liyabola\, libeyityhefu\, lingasebenzi kwezinye izinto. Uthi ke wena usakuhlakaza uvumbulule okokubola kungalungi njengoko enzile u Zwilakhe kwelibali libuhlungu kangakanana. \nThe school’s name is to be provided when making a booking. \nDuration: 120min; No interval\nAge Restriction: family \nKindly note Artscape provides wheelchair seating. You can book directly via this website but should you require assistance please call Artscape Dial-a-Seat on 021 421 76 95 who will assist with navigation and booking. \n 
URL:https://www.artscape.co.za/event/buzani-ku-bawo-3/
CATEGORIES:Drama,Education
END:VEVENT
BEGIN:VEVENT
DTSTART;TZID=Europe/Helsinki:20250512T080000
DTEND;TZID=Europe/Helsinki:20250524T170000
DTSTAMP:20260423T105038
CREATED:20250312T173459Z
LAST-MODIFIED:20250407T085200Z
UID:15536-1747036800-1748106000@www.artscape.co.za
SUMMARY:Krismis van Map Jacobs
DESCRIPTION:‘n Gevreesde bendeleier word na sewe jaar op parool uit die tronk vrygelaat. Almal wonder nou of Map verander het en of hy steeds die ou Map is. Die drama speel af na die gedwonge verskuiwings uit die Kaap na die Vlakte. Dit kyk na die invloed wat sosiale en maatskaplike euwels op die gemeenskap het en gee ‘n blik op die leefwyse van die ontworteldes\, hulle lief en leed en die desperate hunkering na ‘n beter bestaan. \nKrismis van Map Jacobs tas aan sosiale kwessies soos werkloosheid en armoede wat hedendaags nog steeds van belang is asook die soeke na identiteit en vergifnis. Krismis van Map Jacobs fokus ook op die letsels wat Apartheid op die Kaapse Bruin gemeenskap gelaat het. \nPlease note that this production includes Smoke/Haze and occasional Strobe lighting.
URL:https://www.artscape.co.za/event/krismis-van-map-jacobs-5/
CATEGORIES:Drama,Education
END:VEVENT
BEGIN:VEVENT
DTSTART;TZID=Europe/Helsinki:20240530T080000
DTEND;TZID=Europe/Helsinki:20240607T170000
DTSTAMP:20260423T105038
CREATED:20240312T122404Z
LAST-MODIFIED:20240312T122442Z
UID:14168-1717056000-1717779600@www.artscape.co.za
SUMMARY:Krismis van Map Jacobs
DESCRIPTION:‘n Gevreesde bendeleier word na sewe jaar op parool uit die tronk vrygelaat. Almal wonder nou of Map verander het en of hy steeds die ou Map is. Die drama speel af na die gedwonge verskuiwings uit die Kaap na die Vlakte. Dit kyk na die invloed wat sosiale en maatskaplike euwels op die gemeenskap het en gee ‘n blik op die leefwyse van die ontworteldes\, hulle lief en leed en die desperate hunkering na ‘n beter bestaan. \nKrismis van Map Jacobs tas aan sosiale kwessies soos werkloosheid en armoede wat hedendaags nog steeds van belang is asook die soeke na identiteit en vergifnis. Krismis van Map Jacobs fokus ook op die letsels wat Apartheid op die Kaapse Bruin gemeenskap gelaat het. \nDuration: 90Min \nKindly note Artscape provides wheelchair seating. You can book directly via this website but should you require assistance please call Artscape Dial-a-Seat on 021 421 76 95 who will assist with navigation and booking. \n 
URL:https://www.artscape.co.za/event/krismis-van-map-jacobs-2/
CATEGORIES:Drama,Education
END:VEVENT
END:VCALENDAR